Workbook

Sheet MOE TOOL- MONTHLY
A1: MOE | E1: PLEASE READ INSTRUCTIONS!
E2: "MOE WORKSHEET INSTRUCTIONS 2026-2027" | G2: KEY ENTRY FIELDS | I2: CALCULATED FIELDS | J2: KEY ENTRY FIELDS | K2: KEY ENTRY FIELDS | L2: KEY ENTRY FIELDS | M2: KEY ENTRY FIELDS | N2: KEY ENTRY FIELDS | O2: KEY ENTRY FIELDS | P2: KEY ENTRY FIELDS | Q2: KEY ENTRY FIELDS | R2: KEY ENTRY FIELDS | S2: KEY ENTRY FIELDS | T2: KEY ENTRY FIELDS | U2: KEY ENTRY FIELDS
B4: IDEA PART-B MAINTENANCE OF EFFORT (MOE) TRACKING TOOL
A6: PART I. ACCOUNT EXPENDITURE/RECEIPT RECORDING
J7: Actual/Estimate | K7: Actual/Estimate | L7: Actual/Estimate | M7: Actual/Estimate | N7: Actual/Estimate | O7: Actual/Estimate | P7: Actual/Estimate | Q7: Actual/Estimate | R7: Actual/Estimate | S7: Actual/Estimate | T7: Actual/Estimate | U7: Actual/Estimate
C8: AFR ACCOUNT CODE | E8: ANNUAL FINANCE REPORT (AFR) ACCOUNT DESCRIPTION | G8: 2025-2026 Actuals | I8: ACTUAL/PROJECTED 2026-2027 TOTALS | J8: SEPTEMBER | K8: OCTOBER | L8: NOVEMBER | M8: DECEMBER | N8: JANUARY | O8: FEBRUARY | P8: MARCH | Q8: APRIL | R8: MAY | S8: JUNE | T8: JULY | U8: AUGUST
C9: (Bottom of the page)
B10: SPECIAL EDUCATION EXPENDITURES:
A11: A | B11: 1 | C11: (1) | E11: Total Special Education Instructional Programs | I11: =SUM(J11:U11) -> 0
A12: A | B12: =+B11+1 -> 2 | C12: (2) | E12: Total School Age Special Education Pupil Transportation | I12: =SUM(J12:U12) -> 0
A13: A | B13: =+B12+1 -> 3 | C13: (3) | E13: Total Early Childhood Special Education Instructional Programs | I13: =SUM(J13:U13) -> 0
A14: A | B14: =+B13+1 -> 4 | C14: (4) | E14: Total Below Age Five Special Education Pupil Transportation | I14: =SUM(J14:U14) -> 0
A15: A | B15: =+B14+1 -> 5 | C15: 01-2-06406-000 | E15: IDEA Preschool (619) Base/IDEA Enrollment/Poverty Allocation | I15: =SUM(J15:U15) -> 0
A16: A | B16: =+B15+1 -> 6 | C16: 01-2-06408-000 | E16: Total IDEA BASE & Enrollment/Poverty (611) | I16: =SUM(J16:U16) -> 0
A17: A | B17: =+B16+1 -> 7 | C17: 01-2-06412-000 | E17: IDEA Part B Proportionate Share | I17: =SUM(J17:U17) -> 0
A18: A | B18: =+#REF!+1 -> #REF!
B19: TOTAL SPECIAL EDUCATION EXPENDITURES: | G19: =SUM(G11:G18) -> 0 | I19: =SUM(I11:I18) -> 0 | J19: =SUM(J11:J18) -> 0 | K19: =SUM(K11:K18) -> 0 | L19: =SUM(L11:L18) -> 0 | M19: =SUM(M11:M18) -> 0 | N19: =SUM(N11:N18) -> 0 | O19: =SUM(O11:O18) -> 0 | P19: =SUM(P11:P18) -> 0 | ... U19: =SUM(U11:U18) -> 0
B21: SPECIAL EDUCATION RECEIPTS:
A22: B | B22: 1 | C22: 01-1-03120-000 | E22: Special Education Programs (School Age) | I22: =SUM(J22:U22) -> 0 | V22: *Reminder 80% of School Age expenses in the prior year
A23: B | B23: =+B22+1 -> 2 | C23: 01-1-03125-000 | E23: Special Education Transportation (School Age) | I23: =SUM(J23:U23) -> 0 | V23: *Reminder 80% of School Age transportation expenses in the prior year
A24: B | B24: =+B23+1 -> 3 | C24: (5) | E24: IDEA BASE & Enrollment/Poverty (611) | G24: =G16 -> 0 | I24: =SUM(J24:U24) -> 0 | J24: =I16 -> 0 | V24: *Reminder Receipts should match expenditures in current year.
A25: B | B25: =+B24+1 -> 4 | C25: (6) | E25: IDEA Preschool (619) Base & E/P Allocation | G25: =G15 -> 0 | I25: =SUM(J25:U25) -> 0 | J25: =I15 -> 0
A26: B | B26: =+B25+1 -> 5 | C26: 01-1-04521-000 | E26: IDEA Part B Proportionate Share | G26: =G17 -> 0 | I26: =SUM(J26:U26) -> 0 | J26: =I17 -> 0
A27: B | B27: 6 | C27: 01-1-04708-000 | E27: MEDICAID in Public Schools | I27: =SUM(J27:U27) -> 0
A28: B | B28: =+B27+1 -> 7 | C28: 01-1-03161-000 | E28: Payments Received for Wards of the State/Court (Special Education) | I28: =SUM(J28:U28) -> 0
A29: B | B29: =+B28+1 -> 8
B30: TOTAL SPECIAL EDUCATION RECEIPTS: | G30: =SUM(G22:G29) -> 0 | I30: =SUM(I22:I29) -> 0 | J30: =SUM(J22:J29) -> 0 | K30: =SUM(K22:K29) -> 0 | L30: =SUM(L22:L29) -> 0 | M30: =SUM(M22:M29) -> 0 | N30: =SUM(N22:N29) -> 0 | O30: =SUM(O22:O29) -> 0 | P30: =SUM(P22:P29) -> 0 | ... U30: =SUM(U22:U29) -> 0
A32: PART II. MOE CALCULATIONS
C35: MOE TARGET SPENDING LEVEL | E35: MAINTENANCE OF EFFORT OPTIONS | G35: 2025-2026 MOE | I35: ACTUAL/PROJECTED 2026-2027 TOTALS
A36: Check recent MOE Compliance Summary Page in Green
E37: Local Expenditures Option
A38: C | B38: 1 | E38: Maintenance of Effort Level (Total Expenditures less Total Receipts) | G38: =+G19-G30 -> 0 | I38: =+I19-I30 -> 0
A39: C | B39: 2 | E39: Maintenance of Effort Excess/Shortage | I39: =I38-MAX(C38,G38) -> 0
E41: State /Local Expenditure Option
A42: C | B42: 3 | E42: Maintenance of Effort Level (Total Expenditures less Federal Receipts {Lines B3-B10}) | G42: =+G19-G24-G25-G26-G27 -> 0 | I42: =+I19-I24-I25-I26-I27 -> 0
A43: C | B43: 4 | E43: Maintenance of Effort Excess/Shortage | I43: =I42-MAX(C42,G42) -> 0
A45: C | B45: 5 | E45: Special Education Students Ages 3-21, Resident and Option In Count reported as of October 1
E47: Local Per Capita Option
A48: C | B48: 6 | E48: Maintenance of Effort Level (Local MOE {Line C1} divided by Child Count {Line C5)) | G48: =+G38/G45 -> #DIV/0! | I48: =+I38/I45 -> #DIV/0!
A49: C | B49: 7 | E49: Maintenance of Effort Excess/Shortage | I49: =I48-MAX(C48,G48) -> #DIV/0!
...

Sheet MOE TOOL- YEAR TO DATE
A1: MOE | E1: PLEASE READ INSTRUCTIONS!
E2: ='MOE TOOL- MONTHLY'!E2 -> "MOE WORKSHEET INSTRUCTIONS 2026-2027" | G2: KEY ENTRY FIELDS | I2: CALCULATED FIELDS | J2: KEY ENTRY FIELDS | K2: KEY ENTRY FIELDS
B4: IDEA PART-B MAINTENANCE OF EFFORT (MOE) TRACKING TOOL
A6: PART I. ACCOUNT EXPENDITURE/RECEIPT RECORDING
C8: AFR ACCOUNT CODE | E8: ANNUAL FINANCE REPORT (AFR) ACCOUNT DESCRIPTION | G8: ='MOE TOOL- MONTHLY'!G8 -> 2025-2026 Actuals | I8: ='MOE TOOL- MONTHLY'!I8 -> ACTUAL/PROJECTED 2026-2027 TOTALS | J8: Actual YTD Expenditures/Receipts | K8: Projected Expenditures/Receipts through 8/31 | W8: Add Exceptions | X8: Notes for Exceptions 24-25 vs 25-26
B10: SPECIAL EDUCATION EXPENDITURES:
A11: A | B11: 1 | C11: (1) | E11: Total Special Education Instructional Programs | I11: =SUM(J11:W11) -> 0
A12: A | B12: =+B11+1 -> 2 | C12: (2) | E12: Total School Age Special Education Pupil Transportation | I12: =SUM(J12:W12) -> 0
A13: A | B13: =+B12+1 -> 3 | C13: (3) | E13: Total Early Childhood Special Education Instructional Programs | I13: =SUM(J13:W13) -> 0
A14: A | B14: =+B13+1 -> 4 | C14: (4) | E14: Total Below Age Five Special Education Pupil Transportation | I14: =SUM(J14:W14) -> 0
A15: A | B15: =+B14+1 -> 5 | C15: 01-2-06406-000 | E15: IDEA Preschool (619) Base/IDEA Enrollment/Poverty Allocation | I15: =SUM(J15:W15) -> 0
A16: A | B16: =+B15+1 -> 6 | C16: 01-2-06408-000 | E16: Total IDEA BASE & Enrollment/Poverty (611) | I16: =SUM(J16:W16) -> 0
A17: A | B17: =+B16+1 -> 7 | C17: 01-2-06412-000 | E17: IDEA Part B Proportionate Share | I17: =SUM(J17:W17) -> 0
A18: A | B18: =+#REF!+1 -> #REF!
B19: TOTAL SPECIAL EDUCATION EXPENDITURES: | G19: =SUM(G11:G18) -> 0 | I19: =SUM(I11:I18) -> 0 | J19: =SUM(J11:J18) -> 0 | K19: =SUM(K11:K18) -> 0 | L19: =SUM(L11:L18) -> 0 | M19: =SUM(M11:M18) -> 0 | N19: =SUM(N11:N18) -> 0 | O19: =SUM(O11:O18) -> 0 | P19: =SUM(P11:P18) -> 0 | ... W19: =SUM(W11:W18) -> 0
B21: SPECIAL EDUCATION RECEIPTS:
A22: B | B22: 1 | C22: 01-1-03120-000 | E22: Special Education Programs (School Age) | I22: =SUM(J22:U22) -> 0 | X22: *Reminder 80% of School Age expenses in the prior year
A23: B | B23: =+B22+1 -> 2 | C23: 01-1-03125-000 | E23: Special Education Transportation (School Age) | I23: =SUM(J23:U23) -> 0 | X23: *Reminder 80% of School Age transportation expenses in the prior year
A24: B | B24: =+B23+1 -> 3 | C24: (5) | E24: IDEA BASE & Enrollment/Poverty (611) | G24: =G16 -> 0 | I24: =SUM(J24:U24) -> 0 | J24: =I16 -> 0 | X24: *Reminder Receipts should match expenditures in current year.
A25: B | B25: =+B24+1 -> 4 | C25: (6) | E25: IDEA Preschool (619) Base & E/P Allocation | G25: =G15 -> 0 | I25: =SUM(J25:U25) -> 0 | J25: =I15 -> 0
A26: B | B26: =+B25+1 -> 5 | C26: 01-1-04521-000 | E26: IDEA Part B Proportionate Share | G26: =G17 -> 0 | I26: =SUM(J26:U26) -> 0 | J26: =I17 -> 0
A27: B | B27: 6 | C27: 01-1-04708-000 | E27: MEDICAID in Public Schools | I27: =SUM(J27:U27) -> 0
A28: B | B28: =+B27+1 -> 7 | C28: 01-1-03161-000 | E28: Payments Received for Wards of the State/Court (Special Education) | I28: =SUM(J28:U28) -> 0
A29: B | B29: =+B28+1 -> 8
B30: TOTAL SPECIAL EDUCATION RECEIPTS: | G30: =SUM(G22:G29) -> 0 | I30: =SUM(I22:I29) -> 0 | J30: =SUM(J22:J29) -> 0 | K30: =SUM(K22:K29) -> 0 | L30: =SUM(L22:L29) -> 0 | M30: =SUM(M22:M29) -> 0 | N30: =SUM(N22:N29) -> 0 | O30: =SUM(O22:O29) -> 0 | P30: =SUM(P22:P29) -> 0 | ... U30: =SUM(U22:U29) -> 0
A32: PART II. MOE CALCULATIONS
C35: MOE TARGET SPENDING LEVEL | E35: MAINTENANCE OF EFFORT OPTIONS | G35: ='MOE TOOL- MONTHLY'!G35 -> 2025-2026 MOE | I35: ='MOE TOOL- MONTHLY'!I35 -> ACTUAL/PROJECTED 2026-2027 TOTALS
A36: Check recent MOE Compliance Summary Page in Green
E37: Local Expenditures Option
A38: C | B38: 1 | E38: Maintenance of Effort Level (Total Expenditures less Total Receipts) | G38: =+G19-G30 -> 0 | I38: =+I19-I30 -> 0
A39: C | B39: 2 | E39: Maintenance of Effort Excess/Shortage | I39: =I38-MAX(C38,G38) -> 0
E41: State /Local Expenditure Option
A42: C | B42: 3 | E42: Maintenance of Effort Level (Total Expenditures less Federal Receipts {Lines B3-B10}) | G42: =+G19-G24-G25-G26-G27 -> 0 | I42: =+I19-I24-I25-I26-I27 -> 0
A43: C | B43: 4 | E43: Maintenance of Effort Excess/Shortage | I43: =I42-MAX(C42,G42) -> 0
A45: C | B45: 5 | E45: Special Education Students Ages 3-21, Resident and Option In Count reported as of October 1
E47: Local Per Capita Option
A48: C | B48: 6 | E48: Maintenance of Effort Level (Local MOE {Line C1} divided by Child Count {Line C5)) | G48: =+G38/G45 -> #DIV/0! | I48: =+I38/I45 -> #DIV/0!
A49: C | B49: 7 | E49: Maintenance of Effort Excess/Shortage | I49: =I48-MAX(C48,G48) -> #DIV/0!
E51: State/Local per Capita Option
A52: C | B52: 8 | E52: Maintenance of Effort Level (Local MOE {Line C3} divided by Child Count {Line C5)) | G52: =+G42/G45 -> #DIV/0! | I52: =+I42/I45 -> #DIV/0!
...

Sheet MOE Eligibilty 2027
A1: MOE | E1: PLEASE READ INSTRUCTIONS!
E2: Pulls numbers from "MOE Tool-Monthly" tab | G2: KEY ENTRY FIELDS | I2: CALCULATED FIELDS | J2: KEY ENTRY FIELDS | K2: KEY ENTRY FIELDS
B4: IDEA PART-B MAINTENANCE OF EFFORT (MOE) TRACKING TOOL
A6: PART I. ACCOUNT EXPENDITURE/RECEIPT RECORDING
C8: AFR ACCOUNT CODE | E8: ANNUAL FINANCE REPORT (AFR) ACCOUNT DESCRIPTION | G8: 2026-2027 Actual/Project Through 8/31 | I8: Projected 2027-2028 | J8: Estimated Expenditures/Receipts | K8: Projected Expenditures/Receipts through 8/31 | W8: Add Exceptions | X8: Notes for Exceptions 25-26 vs 26-27
B10: SPECIAL EDUCATION EXPENDITURES:
A11: A | B11: 1 | C11: (1) | E11: Total Special Education Instructional Programs | G11: ='MOE TOOL- MONTHLY'!I11 -> 0 | I11: =SUM(J11:W11) -> 0
A12: A | B12: =+B11+1 -> 2 | C12: (2) | E12: Total School Age Special Education Pupil Transportation | G12: ='MOE TOOL- MONTHLY'!I12 -> 0 | I12: =SUM(J12:W12) -> 0
A13: A | B13: =+B12+1 -> 3 | C13: (3) | E13: Total Early Childhood Special Education Instructional Programs | G13: ='MOE TOOL- MONTHLY'!I13 -> 0 | I13: =SUM(J13:W13) -> 0
A14: A | B14: =+B13+1 -> 4 | C14: (4) | E14: Total Below Age Five Special Education Pupil Transportation | G14: ='MOE TOOL- MONTHLY'!I14 -> 0 | I14: =SUM(J14:W14) -> 0
A15: A | B15: =+B14+1 -> 5 | C15: 01-2-06406-000 | E15: IDEA Preschool (619) Base/IDEA Enrollment/Poverty Allocation | G15: ='MOE TOOL- MONTHLY'!I15 -> 0 | I15: =SUM(J15:W15) -> 0
A16: A | B16: =+B15+1 -> 6 | C16: 01-2-06408-000 | E16: Total IDEA BASE & Enrollment/Poverty (611) | G16: ='MOE TOOL- MONTHLY'!I16 -> 0 | I16: =SUM(J16:W16) -> 0
A17: A | B17: =+B16+1 -> 7 | C17: 01-2-06412-000 | E17: IDEA Part B Proportionate Share | G17: ='MOE TOOL- MONTHLY'!I17 -> 0 | I17: =SUM(J17:W17) -> 0
A18: A | B18: =+#REF!+1 -> #REF!
B19: TOTAL SPECIAL EDUCATION EXPENDITURES: | G19: =SUM(G11:G18) -> 0 | I19: =SUM(I11:I18) -> 0 | J19: =SUM(J11:J18) -> 0 | K19: =SUM(K11:K18) -> 0 | L19: =SUM(L11:L18) -> 0 | M19: =SUM(M11:M18) -> 0 | N19: =SUM(N11:N18) -> 0 | O19: =SUM(O11:O18) -> 0 | P19: =SUM(P11:P18) -> 0 | ... W19: =SUM(W11:W18) -> 0
B21: SPECIAL EDUCATION RECEIPTS:
A22: B | B22: 1 | C22: 01-1-03120-000 | E22: Special Education Programs (School Age) | G22: ='MOE TOOL- MONTHLY'!G22 -> 0 | I22: =SUM(J22:U22) -> 0 | J22: =G11*0.8 -> 0 | X22: *Reminder 80% of School Age expenses in the prior year
A23: B | B23: =+B22+1 -> 2 | C23: 01-1-03125-000 | E23: Special Education Transportation (School Age) | G23: ='MOE TOOL- MONTHLY'!G23 -> 0 | I23: =SUM(J23:U23) -> 0 | J23: =G12*0.8 -> 0 | X23: *Reminder 80% of School Age transportation expenses in the prior year
A24: B | B24: =+B23+1 -> 3 | C24: (5) | E24: IDEA BASE & Enrollment/Poverty (611) | G24: ='MOE TOOL- MONTHLY'!G24 -> 0 | I24: =SUM(J24:U24) -> 0 | J24: =I16 -> 0 | X24: *Reminder Receipts should match expenditures in current year.
A25: B | B25: =+B24+1 -> 4 | C25: (6) | E25: IDEA Preschool (619) Base & E/P Allocation | G25: ='MOE TOOL- MONTHLY'!G25 -> 0 | I25: =SUM(J25:U25) -> 0 | J25: =I15 -> 0
A26: B | B26: =+B25+1 -> 5 | C26: 01-1-04521-000 | E26: IDEA Part B Proportionate Share | G26: ='MOE TOOL- MONTHLY'!G26 -> 0 | I26: =SUM(J26:U26) -> 0 | J26: =I17 -> 0
A27: B | B27: 6 | C27: 01-1-04708-000 | E27: MEDICAID in Public Schools | G27: ='MOE TOOL- MONTHLY'!G27 -> 0 | I27: =SUM(J27:U27) -> 0
A28: B | B28: =+B27+1 -> 7 | C28: 01-1-03161-000 | E28: Payments Received for Wards of the State/Court (Special Education) | G28: ='MOE TOOL- MONTHLY'!G28 -> 0 | I28: =SUM(J28:U28) -> 0
A29: B | B29: =+B28+1 -> 8
B30: TOTAL SPECIAL EDUCATION RECEIPTS: | G30: =SUM(G22:G29) -> 0 | I30: =SUM(I22:I29) -> 0 | J30: =SUM(J22:J29) -> 0 | K30: =SUM(K22:K29) -> 0 | L30: =SUM(L22:L29) -> 0 | M30: =SUM(M22:M29) -> 0 | N30: =SUM(N22:N29) -> 0 | O30: =SUM(O22:O29) -> 0 | P30: =SUM(P22:P29) -> 0 | ... U30: =SUM(U22:U29) -> 0
A32: PART II. MOE CALCULATIONS
C35: MOE TARGET SPENDING LEVEL | E35: MAINTENANCE OF EFFORT OPTIONS | G35: 2026-2027 | I35: 2027-2028
A36: Check recent MOE Eligibility
E37: Local Expenditures Option
A38: C | B38: 1 | C38: ='MOE TOOL- MONTHLY'!C38 -> 0 | E38: Maintenance of Effort Level (Total Expenditures less Total Receipts) | G38: =+G19-G30 -> 0 | I38: =+I19-I30 -> 0
A39: C | B39: 2 | E39: Maintenance of Effort Excess/Shortage | I39: =I38-MAX(C38,G38) -> 0
E41: State /Local Expenditure Option
A42: C | B42: 3 | C42: ='MOE TOOL- MONTHLY'!C42 -> 0 | E42: Maintenance of Effort Level (Total Expenditures less Federal Receipts {Lines B3-B10}) | G42: =+G19-G24-G25-G26-G27 -> 0 | I42: =+I19-I24-I25-I26-I27 -> 0
A43: C | B43: 4 | E43: Maintenance of Effort Excess/Shortage | I43: =I42-MAX(C42,G42) -> 0
A45: C | B45: 5 | E45: Special Education Students Ages 3-21, Resident and Option In Count reported as of October 1 | G45: ='MOE TOOL- MONTHLY'!I45 -> 0
E47: Local Per Capita Option
A48: C | B48: 6 | C48: ='MOE TOOL- MONTHLY'!C48 -> 0 | E48: Maintenance of Effort Level (Local MOE {Line C1} divided by Child Count {Line C5)) | G48: =+G38/G45 -> #DIV/0! | I48: =+I38/I45 -> #DIV/0!
A49: C | B49: 7 | E49: Maintenance of Effort Excess/Shortage | I49: =I48-MAX(C48,G48) -> #DIV/0!
E51: State/Local per Capita Option
A52: C | B52: 8 | C52: ='MOE TOOL- MONTHLY'!C52 -> 0 | E52: Maintenance of Effort Level (Local MOE {Line C3} divided by Child Count {Line C5)) | G52: =+G42/G45 -> #DIV/0! | I52: =+I42/I45 -> #DIV/0!
...
