BEGIN:VCALENDAR
VERSION:2.0
PRODID:-//Nebraska Department of Education - ECPv6.15.13//NONSGML v1.0//EN
CALSCALE:GREGORIAN
METHOD:PUBLISH
X-WR-CALNAME:Nebraska Department of Education
X-ORIGINAL-URL:https://www.education.ne.gov
X-WR-CALDESC:Events for Nebraska Department of Education
REFRESH-INTERVAL;VALUE=DURATION:PT1H
X-Robots-Tag:noindex
X-PUBLISHED-TTL:PT1H
BEGIN:VTIMEZONE
TZID:America/Chicago
BEGIN:DAYLIGHT
TZOFFSETFROM:-0600
TZOFFSETTO:-0500
TZNAME:CDT
DTSTART:20230312T080000
END:DAYLIGHT
BEGIN:STANDARD
TZOFFSETFROM:-0500
TZOFFSETTO:-0600
TZNAME:CST
DTSTART:20231105T070000
END:STANDARD
BEGIN:DAYLIGHT
TZOFFSETFROM:-0600
TZOFFSETTO:-0500
TZNAME:CDT
DTSTART:20240310T080000
END:DAYLIGHT
BEGIN:STANDARD
TZOFFSETFROM:-0500
TZOFFSETTO:-0600
TZNAME:CST
DTSTART:20241103T070000
END:STANDARD
BEGIN:DAYLIGHT
TZOFFSETFROM:-0600
TZOFFSETTO:-0500
TZNAME:CDT
DTSTART:20250309T080000
END:DAYLIGHT
BEGIN:STANDARD
TZOFFSETFROM:-0500
TZOFFSETTO:-0600
TZNAME:CST
DTSTART:20251102T070000
END:STANDARD
END:VTIMEZONE
BEGIN:VEVENT
DTSTART;TZID=America/Chicago:20241212T090000
DTEND;TZID=America/Chicago:20241212T150000
DTSTAMP:20260422T054620
CREATED:20241018T151200Z
LAST-MODIFIED:20241018T151305Z
UID:114647-1733994000-1734015600@www.education.ne.gov
SUMMARY:State Accreditation Committee Meeting
DESCRIPTION:
URL:https://www.education.ne.gov/ndeevent/state-accreditation-committee-meeting-11/
LOCATION:NDE Office\, South 84th Street\, Lincoln\, Nebraska\, 68510\, United States
CATEGORIES:Public Meetings
END:VEVENT
BEGIN:VEVENT
DTSTART;TZID=America/Chicago:20241212T090000
DTEND;TZID=America/Chicago:20241212T160000
DTSTAMP:20260422T054620
CREATED:20240820T131500Z
LAST-MODIFIED:20240820T131718Z
UID:112454-1733994000-1734019200@www.education.ne.gov
SUMMARY:Special Education Advisory Council (SEAC)
DESCRIPTION:The Special Education Advisory Council (SEAC) meets quarterly to provide policy guidance to the Nebraska Department of Education with respect to special education and related services for children with disabilities. \nThis meeting will be held in person only at the NDE Office in Lincoln\, NE\n*Some meetings may be offered as Hybrid (in-person & virtual) via Zoom* \nSEAC will meet from 9:00 a.m. to approximately 4:00 p.m. with a public comment period at 11:00 a.m. (End time is approximate as the meeting will conclude with an approved motion to adjourn) at the NDE Office\, which is an accessible facility. Interested persons are invited to attend \n12.12.2024 SEAC Agenda (Coming Soon) \nNebraska – Open Meetings Act
URL:https://www.education.ne.gov/ndeevent/special-education-advisory-council-seac-16/
LOCATION:NDE Office\, South 84th Street\, Lincoln\, Nebraska\, 68510\, United States
CATEGORIES:Public Meetings,Special Education
END:VEVENT
END:VCALENDAR