BEGIN:VCALENDAR
VERSION:2.0
PRODID:-//Nebraska Department of Education - ECPv6.15.13//NONSGML v1.0//EN
CALSCALE:GREGORIAN
METHOD:PUBLISH
X-WR-CALNAME:Nebraska Department of Education
X-ORIGINAL-URL:https://www.education.ne.gov
X-WR-CALDESC:Events for Nebraska Department of Education
REFRESH-INTERVAL;VALUE=DURATION:PT1H
X-Robots-Tag:noindex
X-PUBLISHED-TTL:PT1H
BEGIN:VTIMEZONE
TZID:America/Chicago
BEGIN:DAYLIGHT
TZOFFSETFROM:-0600
TZOFFSETTO:-0500
TZNAME:CDT
DTSTART:20170312T080000
END:DAYLIGHT
BEGIN:STANDARD
TZOFFSETFROM:-0500
TZOFFSETTO:-0600
TZNAME:CST
DTSTART:20171105T070000
END:STANDARD
BEGIN:DAYLIGHT
TZOFFSETFROM:-0600
TZOFFSETTO:-0500
TZNAME:CDT
DTSTART:20180311T080000
END:DAYLIGHT
BEGIN:STANDARD
TZOFFSETFROM:-0500
TZOFFSETTO:-0600
TZNAME:CST
DTSTART:20181104T070000
END:STANDARD
BEGIN:DAYLIGHT
TZOFFSETFROM:-0600
TZOFFSETTO:-0500
TZNAME:CDT
DTSTART:20190310T080000
END:DAYLIGHT
BEGIN:STANDARD
TZOFFSETFROM:-0500
TZOFFSETTO:-0600
TZNAME:CST
DTSTART:20191103T070000
END:STANDARD
BEGIN:DAYLIGHT
TZOFFSETFROM:-0600
TZOFFSETTO:-0500
TZNAME:CDT
DTSTART:20200308T080000
END:DAYLIGHT
BEGIN:STANDARD
TZOFFSETFROM:-0500
TZOFFSETTO:-0600
TZNAME:CST
DTSTART:20201101T070000
END:STANDARD
END:VTIMEZONE
BEGIN:VTIMEZONE
TZID:America/Denver
BEGIN:DAYLIGHT
TZOFFSETFROM:-0700
TZOFFSETTO:-0600
TZNAME:MDT
DTSTART:20170312T090000
END:DAYLIGHT
BEGIN:STANDARD
TZOFFSETFROM:-0600
TZOFFSETTO:-0700
TZNAME:MST
DTSTART:20171105T080000
END:STANDARD
BEGIN:DAYLIGHT
TZOFFSETFROM:-0700
TZOFFSETTO:-0600
TZNAME:MDT
DTSTART:20180311T090000
END:DAYLIGHT
BEGIN:STANDARD
TZOFFSETFROM:-0600
TZOFFSETTO:-0700
TZNAME:MST
DTSTART:20181104T080000
END:STANDARD
BEGIN:DAYLIGHT
TZOFFSETFROM:-0700
TZOFFSETTO:-0600
TZNAME:MDT
DTSTART:20190310T090000
END:DAYLIGHT
BEGIN:STANDARD
TZOFFSETFROM:-0600
TZOFFSETTO:-0700
TZNAME:MST
DTSTART:20191103T080000
END:STANDARD
END:VTIMEZONE
BEGIN:VEVENT
DTSTART;VALUE=DATE:20181003
DTEND;VALUE=DATE:20181004
DTSTAMP:20260420T185712
CREATED:20180801T183100Z
LAST-MODIFIED:20191107T204421Z
UID:40109-1538524800-1538611199@www.education.ne.gov
SUMMARY:BMIT Workshop - Beatrice
DESCRIPTION:9 a.m. to 3 p.m. at all locations\nNew standards for Business Marketing Management (BMM) and Communication and Information Systems (CIS) will be featured at the six FALL BMIT workshops. Participants will have an opportunity to work with the new standards. Sydney Kobza and Jacqui Garrison of the Nebraska Department of Education will facilitate the 9 am to 3 pm workshops that will feature best practice teaching strategies. Lunch will be sponsored by the Nebraska Council on Economic Education. BMM Registration \n\nOctober 3: Beatrice ESU 5– 900 W. Court Street\, Beatrice\nOctober 15: Scottsbluff Western Nebraska Community College–Harms Advanced Technology Center\, Room A103\, 2620 College Park\, Scottsbluff\nOctober 16: North Platte Community College\, South Campus –McDonald-Belton Bldg.\, Room 122\, North Platte (located south of interstate at 601 West State Farm Road)\nOctober 17: Kearney ESU 1–76 Plaza Blvd\, Kearney\nOctober 23:  La Vista ESU 3–6949 S 110th St\, La Vista\nOctober 25: Norfolk Northeast Community College–Norfolk Lifelong Learning Center\, Room C & D\, 601 East Benjamin Avenue\, Norfolk
URL:https://www.education.ne.gov/ndeevent/bmit-workshop-beatrice/
LOCATION:ESU 5\, Beatrice\, NE\, United States
CATEGORIES:Business, Marketing, and Management,Communications and Information Systems
END:VEVENT
BEGIN:VEVENT
DTSTART;VALUE=DATE:20181003
DTEND;VALUE=DATE:20181004
DTSTAMP:20260420T185712
CREATED:20190912T213805Z
LAST-MODIFIED:20190912T213805Z
UID:52597-1538524800-1538611199@www.education.ne.gov
SUMMARY:District 11 Area Land Judging
DESCRIPTION:Specific times are TBD.
URL:https://www.education.ne.gov/ndeevent/district-11-area-land-judging/
LOCATION:Lower Republic NRD\, NE
CATEGORIES:Agriculture, Food, and Natural Resources
END:VEVENT
BEGIN:VEVENT
DTSTART;TZID=America/Chicago:20181004T183000
DTEND;TZID=America/Chicago:20181004T200000
DTSTAMP:20260420T185712
CREATED:20180926T211900Z
LAST-MODIFIED:20191107T203644Z
UID:42013-1538677800-1538683200@www.education.ne.gov
SUMMARY:Federal Preschool Development Grant (Birth Through Five) Nebraska Public Input Meeting
DESCRIPTION:The Nebraska Department of Education and Department of Health and Human Services will co-sponsor a public input session on Thursday\, October 4\, 2018 from 6:30 to 8:00 p.m. CT to address a new federal funding opportunity to improve the state’s early childhood infrastructure. \nThe public input session on this funding opportunity will be hosted online in Lincoln and will be accessible to participants in eight additional locations statewide. \nInput session site information. \n 
URL:https://www.education.ne.gov/ndeevent/federal-preschool-development-grant-birth-through-five-nebraska-public-input-meeting/
LOCATION:Nebraska
CATEGORIES:Meeting
END:VEVENT
BEGIN:VEVENT
DTSTART;VALUE=DATE:20181005
DTEND;VALUE=DATE:20181009
DTSTAMP:20260420T185712
CREATED:20180824T143100Z
LAST-MODIFIED:20191108T154501Z
UID:40932-1538697600-1539043199@www.education.ne.gov
SUMMARY:MBA Conclave - Kansas City
DESCRIPTION:Registration and Fee Info\n\n\n\nMBA Conclave Registration \nBasic Registration            \nMember: $389. Non-Member: $529. All educators from schools in the MBA Research member states are eligible for member pricing. \nBasic Registration includes breakfast\, luncheon\, breaks\, miscellaneous conference materials\, and all professional development programming. \nFree The Celebration! ticket with registration by August 31. $39 after August 31. Ticket for unregistered guest: $49. \nInstitutional Registration\nBring the team!  Schools and school districts are encouraged to bring a team of leaders interested in building stronger business administration programs.  Bring your business education and marketing education faculty\, counselors\, curriculum specialists\, advisory committee members\, and local administrators responsible for business/marketing programs.  Deep discounts: 30% discount for the third and all additional registrations from an individual school\, OR 30% discount for the fifth and all additional registrants from a school district. \nGuest Registration \n$89. Includes two lunches\, three breakfasts and Celebration! ticket (if registered before August 31). \nCollege Student Registration\n$79.  Full-time students in teacher preparation programs who are preparing to teach secondary business administration\, and who are not currently in teaching positions\, are eligible. Written verification of current full-time status from teacher educator is required.  Rate includes Basic Registration and The Celebration! ticket. \nWorkshops\nPre-conference workshops. \nHotel Reservations\nMarriott Country Club Plaza\n4445 Main St\nKansas City\, MO 64111\n(816) 531-3000 \n\n159.00 USD per night\nComplimentary WiFi in guest rooms\nFitness Center\nPets allowed\nRestaurants on site\n\nBook your group rate for MBA Conclave  \nRate available 10/03/18 to 10/09/18\nBook by 09/12/18 \nYou may also contact the Reservations Desk at 1-800-810-3708 and they can make the reservations in the group block as requested.
URL:https://www.education.ne.gov/ndeevent/mba-conclave-kansas-city/
LOCATION:Marriott Country Club Plaza\, 4445 Main St\, Kansas City\, MO\, 64111\, United States
CATEGORIES:Business, Marketing, and Management
END:VEVENT
BEGIN:VEVENT
DTSTART;VALUE=DATE:20181008
DTEND;VALUE=DATE:20181009
DTSTAMP:20260420T185712
CREATED:20170811T182924Z
LAST-MODIFIED:20170811T191224Z
UID:16231-1538956800-1539043199@www.education.ne.gov
SUMMARY:Columbus Day
DESCRIPTION:
URL:https://www.education.ne.gov/ndeevent/columbus-day-3/
LOCATION:Nebraska
CATEGORIES:Holidays
END:VEVENT
BEGIN:VEVENT
DTSTART;TZID=America/Denver:20181009T080000
DTEND;TZID=America/Denver:20181009T120000
DTSTAMP:20260420T185712
CREATED:20180918T174800Z
LAST-MODIFIED:20180918T201126Z
UID:41756-1539072000-1539086400@www.education.ne.gov
SUMMARY:NSCAS Fall Workshop
DESCRIPTION:Information on MAP Growth updates\, Spring Summative (including test sessions\, accessibility\, and student rostering)\, TestWiz\, and Professional Learning will be presented. This workshop is ideal for Nebraska DACs\, N-TACs\, and Certified Facilitators
URL:https://www.education.ne.gov/ndeevent/nscas-fall-workshop/
LOCATION:Gering Civic Center\, 1050 M St\, Gering\, NE\, 69341\, United States
CATEGORIES:Assessment,NSCAS General Summative
END:VEVENT
BEGIN:VEVENT
DTSTART;TZID=America/Chicago:20181009T100000
DTEND;TZID=America/Chicago:20181009T143000
DTSTAMP:20260420T185712
CREATED:20180928T185203Z
LAST-MODIFIED:20180928T185203Z
UID:42084-1539079200-1539095400@www.education.ne.gov
SUMMARY:State Rehabilitation Council Meeting
DESCRIPTION:Room 1510 \nAgenda October 9 2018
URL:https://www.education.ne.gov/ndeevent/state-rehabilitation-council-meeting-4/
LOCATION:Nebraska State Capital\, 1445 K Street\, Lincoln\, NE\, 68508\, United States
CATEGORIES:Public Meetings
ORGANIZER;CN="Angela Fujan":MAILTO:Angela.fujan@nebraska.gov
END:VEVENT
BEGIN:VEVENT
DTSTART;VALUE=DATE:20181010
DTEND;VALUE=DATE:20181011
DTSTAMP:20260420T185712
CREATED:20180827T145300Z
LAST-MODIFIED:20180827T141719Z
UID:40983-1539129600-1539215999@www.education.ne.gov
SUMMARY:Nebraska Statewide Para-educator Conference
DESCRIPTION:The Nebraska statewide Para-educator Conference is to be held  October 10\, 2018 in Kearney\, NE and we are inviting all para-educators in Nebraska to share in this opportunity to advance their skills and share their thoughts and ideas with others. The conference cost is $60 prior to October 1st ($70 after). Online registration can be found by visiting https://para.unl.edu/conference/registration.html. \nThe keynote address will be delivered by Dr. Matt McNiff and is titled\, “Saving the World: Why Your Work is So Important”.  There will be 4 sessions with 28 topics related to the following categories: Growing with Early Childhood\, Supporting Students with Disabilities\, Increasing Positive Behavior\, Collaborating in the Elementary Classroom\, Assisting Secondary Students\, Enhancing Para Performance and Recognizing Students with Diverse Needs.  \nAttendees will be served lunch and receive a conference T-shirt. At the lunch\, Dr. Matt Blomstedt\, Commissioner of Education will present the Para-educator of the Year Recognition Award. For more information about the conference including session titles and speakers\, see https://para.unl.edu/conference.
URL:https://www.education.ne.gov/ndeevent/nebraska-statewide-para-educator-conference/
LOCATION:Younes Conference Center\, 416 W. Talmadge Rd.\, Kearney\, NE\, 68845\, United States
CATEGORIES:Conference,Special Education
END:VEVENT
BEGIN:VEVENT
DTSTART;TZID=America/Chicago:20181010T080000
DTEND;TZID=America/Chicago:20181010T120000
DTSTAMP:20260420T185712
CREATED:20180918T180100Z
LAST-MODIFIED:20180918T200703Z
UID:41758-1539158400-1539172800@www.education.ne.gov
SUMMARY:NSCAS Fall Workshop
DESCRIPTION:Information on MAP Growth updates\, Spring Summative (including test sessions\, accessibility\, and student rostering)\, TestWiz\, and Professional Learning will be presented. This workshop is ideal for Nebraska DACs\, N-TACs\, and Certified Facilitators.
URL:https://www.education.ne.gov/ndeevent/nscas-fall-workshop-5/
LOCATION:Younes Conference Center\, 416 W. Talmadge Rd.\, Kearney\, NE\, 68845\, United States
CATEGORIES:Assessment,NSCAS General Summative
END:VEVENT
BEGIN:VEVENT
DTSTART;TZID=America/Chicago:20181011T080000
DTEND;TZID=America/Chicago:20181011T120000
DTSTAMP:20260420T185712
CREATED:20180918T180100Z
LAST-MODIFIED:20180918T200622Z
UID:41761-1539244800-1539259200@www.education.ne.gov
SUMMARY:NSCAS Fall Workshop
DESCRIPTION:Information on MAP Growth updates\, Spring Summative (including test sessions\, accessibility\, and student rostering)\, TestWiz\, and Professional Learning will be presented. This workshop is ideal for Nebraska DACs\, N-TACs\, and Certified Facilitators
URL:https://www.education.ne.gov/ndeevent/nscas-fall-workshop-4/
LOCATION:Nielsen Community Center\, 200 Anna Stalp Ave\, West Point\, NE\, 68788\, United States
CATEGORIES:Assessment,NSCAS General Summative
END:VEVENT
BEGIN:VEVENT
DTSTART;VALUE=DATE:20181012
DTEND;VALUE=DATE:20181013
DTSTAMP:20260420T185712
CREATED:20180919T140200Z
LAST-MODIFIED:20180919T134956Z
UID:41819-1539302400-1539388799@www.education.ne.gov
SUMMARY:Nebraska Council on Teacher Education (NCTE)
DESCRIPTION:
URL:https://www.education.ne.gov/ndeevent/nebraska-council-on-teacher-education-ncte/
LOCATION:Cornhusker Marriott Hotel\, 333 S 13th Street\, Lincoln\, NE\, 68508\, United States
CATEGORIES:Public Meetings
END:VEVENT
BEGIN:VEVENT
DTSTART;TZID=America/Chicago:20181012T080000
DTEND;TZID=America/Chicago:20181012T120000
DTSTAMP:20260420T185712
CREATED:20180918T180100Z
LAST-MODIFIED:20180918T200637Z
UID:41763-1539331200-1539345600@www.education.ne.gov
SUMMARY:NSCAS Fall Workshop
DESCRIPTION:Information on MAP Growth updates\, Spring Summative (including test sessions\, accessibility\, and student rostering)\, TestWiz\, and Professional Learning will be presented. This workshop is ideal for Nebraska DACs\, N-TACs\, and Certified Facilitators
URL:https://www.education.ne.gov/ndeevent/nscas-fall-workshop-3/
LOCATION:Cornhusker Marriott Hotel\, 333 S 13th Street\, Lincoln\, NE\, 68508\, United States
CATEGORIES:Assessment,NSCAS General Summative
END:VEVENT
BEGIN:VEVENT
DTSTART;TZID=America/Chicago:20181012T133000
DTEND;TZID=America/Chicago:20181012T163000
DTSTAMP:20260420T185712
CREATED:20180918T180100Z
LAST-MODIFIED:20180918T200627Z
UID:41764-1539351000-1539361800@www.education.ne.gov
SUMMARY:NSCAS Fall Workshop
DESCRIPTION:Information on MAP Growth updates\, Spring Summative (including test sessions\, accessibility\, and student rostering)\, TestWiz\, and Professional Learning will be presented. This workshop is ideal for Nebraska DACs\, N-TACs\, and Certified Facilitators
URL:https://www.education.ne.gov/ndeevent/nscas-fall-workshop-2/
LOCATION:DC Centre\, 11830 Stonegate Dr\, Omaha\, NE\, 68164\, United States
CATEGORIES:Assessment,NSCAS General Summative
END:VEVENT
BEGIN:VEVENT
DTSTART;VALUE=DATE:20181015
DTEND;VALUE=DATE:20181016
DTSTAMP:20260420T185712
CREATED:20180425T201400Z
LAST-MODIFIED:20191107T170151Z
UID:36943-1539561600-1539647999@www.education.ne.gov
SUMMARY:BMIT Workshop - Scottsbluff
DESCRIPTION:9 a.m. to 3 p.m. at all locations\nNew standards for Business Marketing Management (BMM) and Communication and Information Systems (CIS) will be featured at the six FALL BMIT workshops. Participants will have an opportunity to work with the new standards. Sydney Kobza and Jacqui Garrison of the Nebraska Department of Education will facilitate the 9 am to 3 pm workshops that will feature best practice teaching strategies. Lunch will be sponsored by the Nebraska Council on Economic Education. BMM Registration \n\nOctober 3: Beatrice ESU 5– 900 W. Court Street\, Beatrice\nOctober 15: Scottsbluff Western Nebraska Community College–Harms Advanced Technology Center\, Room A103\, 2620 College Park\, Scottsbluff\nOctober 16: North Platte Community College\, South Campus –McDonald-Belton Bldg.\, Room 122\, North Platte (located south of interstate at 601 West State Farm Road)\nOctober 17: Kearney ESU 1–76 Plaza Blvd\, Kearney\nOctober 23:  La Vista ESU 3–6949 S 110th St\, La Vista\nOctober 25: Norfolk Northeast Community College–Norfolk Lifelong Learning Center\, Room C & D\, 601 East Benjamin Avenue\, Norfolk
URL:https://www.education.ne.gov/ndeevent/bmit-workshop-scottsbluff/
LOCATION:Harms Advanced Technology Center\, 2620 College Park\, Scottsbluff\, NE\, 69361\, United States
CATEGORIES:Business, Marketing, and Management,Communications and Information Systems
END:VEVENT
BEGIN:VEVENT
DTSTART;VALUE=DATE:20181016
DTEND;VALUE=DATE:20181017
DTSTAMP:20260420T185712
CREATED:20180425T204500Z
LAST-MODIFIED:20180425T204550Z
UID:36946-1539648000-1539734399@www.education.ne.gov
SUMMARY:BMIT Workshop - North Platte
DESCRIPTION:Save the date for one of our upcoming workshops. Registration opens August 2018.\n\n\n\n\n\n\n\nNorth Platte Community College\, South Campus\, McDonald-Belton Bldg.\, Room 122 (located south of interstate at 601 West State Farm Road)\, North Platte
URL:https://www.education.ne.gov/ndeevent/bmit-workshop-north-platte/
LOCATION:North Platte Community College\, South Campus\, 601 W State Farm Rd\, North Platte\, NE\, 69101\, United States
CATEGORIES:Business, Marketing, and Management,Communications and Information Systems
END:VEVENT
BEGIN:VEVENT
DTSTART;VALUE=DATE:20181017
DTEND;VALUE=DATE:20181018
DTSTAMP:20260420T185712
CREATED:20180425T204600Z
LAST-MODIFIED:20180425T204717Z
UID:36948-1539734400-1539820799@www.education.ne.gov
SUMMARY:BMIT Workshop - Kearney
DESCRIPTION:Save the date for one of our upcoming workshops. Registration opens August 2018.\nESU 10\, 76 Plaza Boulevard\, Kearney
URL:https://www.education.ne.gov/ndeevent/bmit-workshop-kearney/
LOCATION:ESU 10\, 76 Plaza Blvd\, Kearney\, NE\, 68845\, United States
CATEGORIES:Business, Marketing, and Management,Communications and Information Systems
END:VEVENT
BEGIN:VEVENT
DTSTART;VALUE=DATE:20181023
DTEND;VALUE=DATE:20181024
DTSTAMP:20260420T185712
CREATED:20180425T204700Z
LAST-MODIFIED:20180425T204812Z
UID:36950-1540252800-1540339199@www.education.ne.gov
SUMMARY:BMIT Workshop - LaVista
DESCRIPTION:Save the date for one of our upcoming workshops. Registration opens August 2018.\nLocation: ESU 3\, 6949 S. 110th Street\, La Vista
URL:https://www.education.ne.gov/ndeevent/bmit-workshop-lavista/
LOCATION:ESU 3\, 6949 S 110th St\, La Vista\, NE\, 68128\, United States
CATEGORIES:Business, Marketing, and Management,Communications and Information Systems
END:VEVENT
BEGIN:VEVENT
DTSTART;TZID=America/Chicago:20181023T080000
DTEND;TZID=America/Chicago:20181023T170000
DTSTAMP:20260420T185712
CREATED:20180927T172600Z
LAST-MODIFIED:20181004T201051Z
UID:42025-1540281600-1540314000@www.education.ne.gov
SUMMARY:Governor's Technical Advisory Committee
DESCRIPTION:Meetings designated as “public meetings” are open to the public subject to the Open Meetings Act (Neb. Rev. Stat. 84-1407 to 84-1414). Members of the public may attend and observe such meetings but may speak only if and when public comment is permitted (see meeting agenda). More information on the Open Meetings Act is available from the Nebraska Attorney General’s Office.
URL:https://www.education.ne.gov/ndeevent/governors-technical-advisory-committee/
LOCATION:Cornhusker Marriott Hotel\, 333 S 13th Street\, Lincoln\, NE\, 68508\, United States
CATEGORIES:Assessment,Public Meetings
END:VEVENT
BEGIN:VEVENT
DTSTART;VALUE=DATE:20181025
DTEND;VALUE=DATE:20181026
DTSTAMP:20260420T185712
CREATED:20180425T204800Z
LAST-MODIFIED:20180425T204938Z
UID:36951-1540425600-1540511999@www.education.ne.gov
SUMMARY:BMIT Workshop - Norfolk
DESCRIPTION:Save the date for one of our upcoming workshops. Registration opens August 2018.\nLocation:  Northeast Community College\, Norfolk Lifelong Learning Center\, Room C & D\, 601 East Benjamin Avenue\, Norfolk
URL:https://www.education.ne.gov/ndeevent/bmit-workshop-norfolk/
LOCATION:Norfolk Lifelong Learning Center\, 701 E Benjamin Ave\, Norfolk\, NE\, 68701\, United States
CATEGORIES:Business, Marketing, and Management,Communications and Information Systems
END:VEVENT
BEGIN:VEVENT
DTSTART;VALUE=DATE:20181105
DTEND;VALUE=DATE:20190216
DTSTAMP:20260420T185712
CREATED:20190122T155500Z
LAST-MODIFIED:20190122T152214Z
UID:45329-1541376000-1550275199@www.education.ne.gov
SUMMARY:ACT Accommodations and Supports Request
DESCRIPTION:Submit through TAA\nDeadline 2/15/19
URL:https://www.education.ne.gov/ndeevent/act-accommodations-and-supports-request/
LOCATION:Nebraska
CATEGORIES:ACT,Assessment
END:VEVENT
BEGIN:VEVENT
DTSTART;VALUE=DATE:20181105
DTEND;VALUE=DATE:20190216
DTSTAMP:20260420T185712
CREATED:20190124T200600Z
LAST-MODIFIED:20190124T210743Z
UID:45535-1541376000-1550275199@www.education.ne.gov
SUMMARY:Verify Student Info in PANext
DESCRIPTION:Enroll/Unenroll students as needed.\nDeadline 2/15/19
URL:https://www.education.ne.gov/ndeevent/verify-student-info-in-panext/
LOCATION:Nebraska
CATEGORIES:ACT,Assessment
END:VEVENT
BEGIN:VEVENT
DTSTART;VALUE=DATE:20181112
DTEND;VALUE=DATE:20181113
DTSTAMP:20260420T185712
CREATED:20170811T182924Z
LAST-MODIFIED:20170811T191224Z
UID:16232-1541980800-1542067199@www.education.ne.gov
SUMMARY:Veterans Day
DESCRIPTION:
URL:https://www.education.ne.gov/ndeevent/veterans-day-3/
LOCATION:Nebraska
CATEGORIES:Holidays
END:VEVENT
BEGIN:VEVENT
DTSTART;VALUE=DATE:20181114
DTEND;VALUE=DATE:20181115
DTSTAMP:20260420T185712
CREATED:20181107T163100Z
LAST-MODIFIED:20181107T162507Z
UID:43348-1542153600-1542239999@www.education.ne.gov
SUMMARY:Nebraska ACT Accommodations Training
DESCRIPTION:Training starts at 10:00 AM CST \nRegistration: Nebraska ACT Accommodations Training
URL:https://www.education.ne.gov/ndeevent/nebraska-act-accommodations-training/
LOCATION:Nebraska
CATEGORIES:ACT,Assessment
END:VEVENT
BEGIN:VEVENT
DTSTART;VALUE=DATE:20181115
DTEND;VALUE=DATE:20181116
DTSTAMP:20260420T185712
CREATED:20181107T163100Z
LAST-MODIFIED:20181107T162635Z
UID:43351-1542240000-1542326399@www.education.ne.gov
SUMMARY:PreACT Data Interpretation Webinar
DESCRIPTION:Training starts at 11:00 AM CST \nRegistration: PreACT Data Interpretation Webinar
URL:https://www.education.ne.gov/ndeevent/preact-data-interpretation-webinar/
LOCATION:Nebraska
CATEGORIES:ACT,Assessment
END:VEVENT
BEGIN:VEVENT
DTSTART;TZID=America/Chicago:20181116T090000
DTEND;TZID=America/Chicago:20181116T150000
DTSTAMP:20260420T185712
CREATED:20181026T160900Z
LAST-MODIFIED:20191108T154601Z
UID:43026-1542358800-1542380400@www.education.ne.gov
SUMMARY:Nebraska ECICC November 16th Meeting
DESCRIPTION:The Early Childhood Interagency Coordinating Council (ECICC) was established to advise and assist collaborating agencies in carrying out the provisions of state and federal statutes pertaining to early childhood care and education initiatives under state supervision. \nThis is a public meeting of the Council and will be held Friday\, November 16th from 9:00a.m. until 3:00p.m. on the third floor of the Jack J. Huck Continuing Education Building\, at 301 S. 68th Street Place in Lincoln. Public comment will be accepted from 9:15 to 9:30a.m. \nDraft agenda
URL:https://www.education.ne.gov/ndeevent/nebraska-ecicc-november-16th-meeting/
LOCATION:Jack J. Huck Continuing Education Building\, 301 So. 68th Street Place\, Lincoln\, NE\, 68510\, United States
CATEGORIES:Certification Classes,ECICC,Meeting,Public Meetings
END:VEVENT
BEGIN:VEVENT
DTSTART;VALUE=DATE:20181122
DTEND;VALUE=DATE:20181123
DTSTAMP:20260420T185712
CREATED:20170811T182924Z
LAST-MODIFIED:20170811T191224Z
UID:16233-1542844800-1542931199@www.education.ne.gov
SUMMARY:Thanksgiving Day
DESCRIPTION:
URL:https://www.education.ne.gov/ndeevent/thanksgiving-day-3/
LOCATION:Nebraska
CATEGORIES:Holidays
END:VEVENT
BEGIN:VEVENT
DTSTART;VALUE=DATE:20181203
DTEND;VALUE=DATE:20190216
DTSTAMP:20260420T185712
CREATED:20190122T155500Z
LAST-MODIFIED:20190122T152519Z
UID:45334-1543795200-1550275199@www.education.ne.gov
SUMMARY:Complete ACT Mock Administration
DESCRIPTION:For Online Testing Only
URL:https://www.education.ne.gov/ndeevent/complete-act-mock-administration/
LOCATION:Nebraska
CATEGORIES:ACT,Assessment
END:VEVENT
BEGIN:VEVENT
DTSTART;TZID=America/Chicago:20181213T080000
DTEND;TZID=America/Chicago:20181213T153000
DTSTAMP:20260420T185712
CREATED:20181108T191900Z
LAST-MODIFIED:20181219T173426Z
UID:43383-1544688000-1544715000@www.education.ne.gov
SUMMARY:Special Education Advisory Council (SEAC) Meeting
DESCRIPTION:The Special Education Advisory Council (SEAC) meets on a quarterly basis for the purpose of providing policy guidance to the Nebraska Department of Education with respect to special education and related services for children with disabilities. \n  \nSEAC Agenda 12_13_18
URL:https://www.education.ne.gov/ndeevent/special-education-advisory-council-seac-meeting/
LOCATION:Embassy Suites\, 1040 P St\, Lincoln\, NE 68508\, USA\, 1040 P St\, Lincoln\, NE\, 68508\, United States
CATEGORIES:Assessment,Meeting,Public Meetings,Special Education
END:VEVENT
BEGIN:VEVENT
DTSTART;TZID=America/Chicago:20181214T100000
DTEND;TZID=America/Chicago:20181214T150000
DTSTAMP:20260420T185712
CREATED:20181204T191332Z
LAST-MODIFIED:20181204T191332Z
UID:43911-1544781600-1544799600@www.education.ne.gov
SUMMARY:Brain Injury Advisory Council Mtg
DESCRIPTION:BIAC Meeting Agenda for December 14\, 2018
URL:https://www.education.ne.gov/ndeevent/brain-injury-advisory-council-mtg-3/
LOCATION:Nebraska VR\, 3901 N. 27th Street\, Lincoln\, NE\, United States
CATEGORIES:Nebraska VR,Public Meetings
ORGANIZER;CN="Keri Bennett":MAILTO:keri.bennett@nebraska.gov
END:VEVENT
BEGIN:VEVENT
DTSTART;VALUE=DATE:20181225
DTEND;VALUE=DATE:20181226
DTSTAMP:20260420T185712
CREATED:20170811T182924Z
LAST-MODIFIED:20170811T191223Z
UID:16234-1545696000-1545782399@www.education.ne.gov
SUMMARY:Christmas Day
DESCRIPTION:
URL:https://www.education.ne.gov/ndeevent/christmas-day-3/
LOCATION:Nebraska
CATEGORIES:Holidays
END:VEVENT
END:VCALENDAR