BEGIN:VCALENDAR
VERSION:2.0
PRODID:-//Nebraska Department of Education - ECPv6.15.13//NONSGML v1.0//EN
CALSCALE:GREGORIAN
METHOD:PUBLISH
X-ORIGINAL-URL:https://www.education.ne.gov
X-WR-CALDESC:Events for Nebraska Department of Education
REFRESH-INTERVAL;VALUE=DURATION:PT1H
X-Robots-Tag:noindex
X-PUBLISHED-TTL:PT1H
BEGIN:VTIMEZONE
TZID:America/Denver
BEGIN:DAYLIGHT
TZOFFSETFROM:-0700
TZOFFSETTO:-0600
TZNAME:MDT
DTSTART:20210314T090000
END:DAYLIGHT
BEGIN:STANDARD
TZOFFSETFROM:-0600
TZOFFSETTO:-0700
TZNAME:MST
DTSTART:20211107T080000
END:STANDARD
BEGIN:DAYLIGHT
TZOFFSETFROM:-0700
TZOFFSETTO:-0600
TZNAME:MDT
DTSTART:20220313T090000
END:DAYLIGHT
BEGIN:STANDARD
TZOFFSETFROM:-0600
TZOFFSETTO:-0700
TZNAME:MST
DTSTART:20221106T080000
END:STANDARD
BEGIN:DAYLIGHT
TZOFFSETFROM:-0700
TZOFFSETTO:-0600
TZNAME:MDT
DTSTART:20230312T090000
END:DAYLIGHT
BEGIN:STANDARD
TZOFFSETFROM:-0600
TZOFFSETTO:-0700
TZNAME:MST
DTSTART:20231105T080000
END:STANDARD
END:VTIMEZONE
BEGIN:VTIMEZONE
TZID:America/Chicago
BEGIN:DAYLIGHT
TZOFFSETFROM:-0600
TZOFFSETTO:-0500
TZNAME:CDT
DTSTART:20210314T080000
END:DAYLIGHT
BEGIN:STANDARD
TZOFFSETFROM:-0500
TZOFFSETTO:-0600
TZNAME:CST
DTSTART:20211107T070000
END:STANDARD
BEGIN:DAYLIGHT
TZOFFSETFROM:-0600
TZOFFSETTO:-0500
TZNAME:CDT
DTSTART:20220313T080000
END:DAYLIGHT
BEGIN:STANDARD
TZOFFSETFROM:-0500
TZOFFSETTO:-0600
TZNAME:CST
DTSTART:20221106T070000
END:STANDARD
BEGIN:DAYLIGHT
TZOFFSETFROM:-0600
TZOFFSETTO:-0500
TZNAME:CDT
DTSTART:20230312T080000
END:DAYLIGHT
BEGIN:STANDARD
TZOFFSETFROM:-0500
TZOFFSETTO:-0600
TZNAME:CST
DTSTART:20231105T070000
END:STANDARD
END:VTIMEZONE
BEGIN:VEVENT
DTSTART;TZID=America/Denver:20221114T080000
DTEND;TZID=America/Denver:20221114T160000
DTSTAMP:20260422T091640
CREATED:20221017T182000Z
LAST-MODIFIED:20221110T194244Z
UID:94798-1668412800-1668441600@www.education.ne.gov
SUMMARY:SRM/SRP Train the Trainer Workshop in Scottsbluff
DESCRIPTION:SRPSRM Full Day Workshop 2022 \nStandard Response Protocol and Standard Reunification Method are used for crisis response and post-crisis reunification. This full day Train the Trainer Workshop introduces the history\, concepts and functionality of these programs and how to train the programs internally. The iloveuguys Foundation is providing this training.
URL:https://www.education.ne.gov/ndeevent/srm-srp-train-the-trainer-workshop/
LOCATION:Midwest Theater\, 1707 Broadway\, Scottsbluff\, NE\, 69361\, United States
CATEGORIES:School Safety,Standard Response Protocol
END:VEVENT
BEGIN:VEVENT
DTSTART;TZID=America/Chicago:20221116T080000
DTEND;TZID=America/Chicago:20221116T160000
DTSTAMP:20260422T091640
CREATED:20221017T183400Z
LAST-MODIFIED:20221017T183508Z
UID:94801-1668585600-1668614400@www.education.ne.gov
SUMMARY:SRM/SRP Train the Trainer Workshop in Kearney
DESCRIPTION:SRPSRM Full Day Workshop 2022 \nStandard Response Protocol and Standard Reunification Method are used for crisis response and post-crisis reunification. This full day Train the Trainer Workshop introduces the history\, concepts and functionality of these programs and how to train the programs internally. The iloveuguys Foundation is providing this training.
URL:https://www.education.ne.gov/ndeevent/srm-srp-train-the-trainer-workshop-in-kearney/
LOCATION:Holiday Inn Hotel & Convention Center\, Kearney\, NE\, 110 2nd Ave\, Kearney\, NE\, 68847\, United States
CATEGORIES:School Safety,Standard Response Protocol
END:VEVENT
BEGIN:VEVENT
DTSTART;TZID=America/Chicago:20221117T080000
DTEND;TZID=America/Chicago:20221117T160000
DTSTAMP:20260422T091640
CREATED:20221017T183500Z
LAST-MODIFIED:20221017T183548Z
UID:94802-1668672000-1668700800@www.education.ne.gov
SUMMARY:SRM/SRP Train the Trainer Workshop in Norfolk
DESCRIPTION:SRPSRM Full Day Workshop 2022 \nStandard Response Protocol and Standard Reunification Method are used for crisis response and post-crisis reunification. This full day Train the Trainer Workshop introduces the history\, concepts and functionality of these programs and how to train the programs internally. The iloveuguys Foundation is providing this training.
URL:https://www.education.ne.gov/ndeevent/srm-srp-train-the-trainer-workshop-in-norfolk/
LOCATION:Midtown Event Center\, 1102 Riverside Blvd\, Norfolk\, NE\, 68701\, United States
CATEGORIES:School Safety,Standard Response Protocol
END:VEVENT
BEGIN:VEVENT
DTSTART;TZID=America/Chicago:20221118T080000
DTEND;TZID=America/Chicago:20221118T160000
DTSTAMP:20260422T091640
CREATED:20221017T181800Z
LAST-MODIFIED:20221017T182029Z
UID:94804-1668758400-1668787200@www.education.ne.gov
SUMMARY:SRM/SRP Train the Trainer Workshop in Lincoln
DESCRIPTION:SRPSRM Full Day Workshop 2022 \nStandard Response Protocol and Standard Reunification Method are used for crisis response and post-crisis reunification. This full day Train the Trainer Workshop introduces the history\, concepts and functionality of these programs and how to train the programs internally. The iloveuguys Foundation is providing this training.
URL:https://www.education.ne.gov/ndeevent/srm-srp-train-the-trainer-workshop-in-lincoln/
LOCATION:Cornhusker Marriott Hotel\, 333 S 13th Street\, Lincoln\, NE\, 68508\, United States
CATEGORIES:School Safety,Standard Response Protocol
END:VEVENT
END:VCALENDAR