BEGIN:VCALENDAR
VERSION:2.0
PRODID:-//Nebraska Department of Education - ECPv6.15.13//NONSGML v1.0//EN
CALSCALE:GREGORIAN
METHOD:PUBLISH
X-WR-CALNAME:Nebraska Department of Education
X-ORIGINAL-URL:https://www.education.ne.gov
X-WR-CALDESC:Events for Nebraska Department of Education
REFRESH-INTERVAL;VALUE=DURATION:PT1H
X-Robots-Tag:noindex
X-PUBLISHED-TTL:PT1H
BEGIN:VTIMEZONE
TZID:America/Chicago
BEGIN:DAYLIGHT
TZOFFSETFROM:-0600
TZOFFSETTO:-0500
TZNAME:CDT
DTSTART:20250309T080000
END:DAYLIGHT
BEGIN:STANDARD
TZOFFSETFROM:-0500
TZOFFSETTO:-0600
TZNAME:CST
DTSTART:20251102T070000
END:STANDARD
BEGIN:DAYLIGHT
TZOFFSETFROM:-0600
TZOFFSETTO:-0500
TZNAME:CDT
DTSTART:20260308T080000
END:DAYLIGHT
BEGIN:STANDARD
TZOFFSETFROM:-0500
TZOFFSETTO:-0600
TZNAME:CST
DTSTART:20261101T070000
END:STANDARD
BEGIN:DAYLIGHT
TZOFFSETFROM:-0600
TZOFFSETTO:-0500
TZNAME:CDT
DTSTART:20270314T080000
END:DAYLIGHT
BEGIN:STANDARD
TZOFFSETFROM:-0500
TZOFFSETTO:-0600
TZNAME:CST
DTSTART:20271107T070000
END:STANDARD
END:VTIMEZONE
BEGIN:VEVENT
DTSTART;TZID=America/Chicago:20260929T090000
DTEND;TZID=America/Chicago:20260929T150000
DTSTAMP:20260421T005104
CREATED:20260410T154200Z
LAST-MODIFIED:20260410T205037Z
UID:129813-1790672400-1790694000@www.education.ne.gov
SUMMARY:Federal Programs Advisory Committee Meeting
DESCRIPTION:September 29\, 2026 @ 9:00 am – 3:00 pm\nNebraska Dept. of Education Office\n500 S. 84th St\nLincoln\, NE 68510
URL:https://www.education.ne.gov/ndeevent/federal-programs-advisory-committee-meeting-10/
CATEGORIES:Meeting,Public Meetings
END:VEVENT
END:VCALENDAR